BEGIN:VCALENDAR
VERSION:2.0
PRODID:-//hacksw/handcal//NONSGML v1.0//EN
CALSCALE:GREGORIAN
BEGIN:VEVENT
ORGANIZER;CN=LeonaBio:MAILTO:no-reply@gcs-web.com
DTEND:20260429T173000Z
UID:dc8537af-518e-481c-b5c1-38fe12260c22
DTSTAMP:1777130104
LOCATION:https://us06web.zoom.us/webinar/register/WN_4u9kaMxtThqFv88uDmYvzg#/registration
DESCRIPTION:Event Details https://investors.leonabio.com/events/event-details/leonabio-kol-webinar-event-modulation-and-combination-potential-lasofoxifene\n\nWebcast: https://us06web.zoom.us/webinar/register/WN_4u9kaMxtThqFv88uDmYvzg#/registration
URL;VALUE=URI:https://us06web.zoom.us/webinar/register/WN_4u9kaMxtThqFv88uDmYvzg#/registration
SUMMARY:LeonaBio - LeonaBio KOL Webinar Event - “Modulation and Combination: the Potential for Lasofoxifene to Transform the Standard-of-Care in Metastatic Breast Cancer”
DTSTART:20260429T160000Z
END:VEVENT
END:VCALENDAR